BEGIN:VCALENDAR
VERSION:2.0
PRODID:-//Medina County Emergency Management Agency - ECPv6.15.20//NONSGML v1.0//EN
CALSCALE:GREGORIAN
METHOD:PUBLISH
X-ORIGINAL-URL:https://www.medinacountyema.org
X-WR-CALDESC:Events for Medina County Emergency Management Agency
REFRESH-INTERVAL;VALUE=DURATION:PT1H
X-Robots-Tag:noindex
X-PUBLISHED-TTL:PT1H
BEGIN:VTIMEZONE
TZID:America/New_York
BEGIN:DAYLIGHT
TZOFFSETFROM:-0500
TZOFFSETTO:-0400
TZNAME:EDT
DTSTART:20250309T070000
END:DAYLIGHT
BEGIN:STANDARD
TZOFFSETFROM:-0400
TZOFFSETTO:-0500
TZNAME:EST
DTSTART:20251102T060000
END:STANDARD
BEGIN:DAYLIGHT
TZOFFSETFROM:-0500
TZOFFSETTO:-0400
TZNAME:EDT
DTSTART:20260308T070000
END:DAYLIGHT
BEGIN:STANDARD
TZOFFSETFROM:-0400
TZOFFSETTO:-0500
TZNAME:EST
DTSTART:20261101T060000
END:STANDARD
BEGIN:DAYLIGHT
TZOFFSETFROM:-0500
TZOFFSETTO:-0400
TZNAME:EDT
DTSTART:20270314T070000
END:DAYLIGHT
BEGIN:STANDARD
TZOFFSETFROM:-0400
TZOFFSETTO:-0500
TZNAME:EST
DTSTART:20271107T060000
END:STANDARD
END:VTIMEZONE
BEGIN:VEVENT
DTSTART;TZID=America/New_York:20260408T090000
DTEND;TZID=America/New_York:20260408T120000
DTSTAMP:20260422T181830
CREATED:20260313T133918Z
LAST-MODIFIED:20260323T185014Z
UID:1928-1775638800-1775649600@www.medinacountyema.org
SUMMARY:EMA 101 Training
DESCRIPTION:This training is intended for Fire Department Officers. \nTentative list of topics include: \n\nHow EMA is formed and funded.\nDamage assessment process: Survey123 and Dashboard\nSheltering: Warming vs. Overnight and Volunteers vs. Red Cross\nLEPC: Tier II Inventory\, Spill Reporting\, and Compliance\nCommunications: MARCS\, Harris\, Starlink\, RACES\, and SHARES\nDisaster Assistance: Public Assistance and Individual Assistance\nDebris Management and Debris Removal: Debris Management Plan\nVolunteer Reception Center Operations and Plan\nEOC Operations\nPublic Messaging and Alerting\nMitigation Plan: Hazard Profiles and Hazard Vulnerability Analysis
URL:https://www.medinacountyema.org/event/ema-101-training/
LOCATION:Medina Fire Department Station 1\, 300 W Reagan Pkwy\, Medina\, OH\, 44256\, United States
END:VEVENT
BEGIN:VEVENT
DTSTART;TZID=America/New_York:20260409T090000
DTEND;TZID=America/New_York:20260410T170000
DTSTAMP:20260422T181830
CREATED:20260211T191815Z
LAST-MODIFIED:20260323T190156Z
UID:1909-1775725200-1775840400@www.medinacountyema.org
SUMMARY:Incident Safety Officer NFPA
DESCRIPTION:This training is intended for fire service personnel. \nThis 16 hour class will prepare individuals to meet the specific job functions outlined in NFPA 1521: Standards for Fire Department Safety Officer. \nMore information and registration instructions are available at: https://aceweb.uakron.edu/CourseStatus.awp?course=F26S97878E01.
URL:https://www.medinacountyema.org/event/incident-safety-officer-nfpa-1521/
LOCATION:Brunswick Division of Fire\, 1094 Hadcock Rd\, Brunswick\, OH\, 44212\, United States
END:VEVENT
BEGIN:VEVENT
DTSTART;TZID=America/New_York:20260415T083000
DTEND;TZID=America/New_York:20260415T120000
DTSTAMP:20260422T181830
CREATED:20260406T162535Z
LAST-MODIFIED:20260406T162605Z
UID:1972-1776241800-1776254400@www.medinacountyema.org
SUMMARY:Ohio Traffic Incident Management (OTIM) Training
DESCRIPTION:This training is intended for public safety personnel. \nThe Ohio Traffic Incident Management (OTIM) training provides education to responders on the safest and most effective means of processing incident scenes to improve the safety of the responders and the motorists by quickly and efficiently clearing the scene and getting all highway lanes reopened to traffic.  Using a multidisciplinary perspective\, responders learn how to operate more cooperatively and effectively. \nAdditional information is included in the registration link. \nRegister by clicking the link HERE.
URL:https://www.medinacountyema.org/event/1972/
LOCATION:ODOT District 3\, 906 Clark Avenue\, Ashland\, OH\, 44805\, United States
END:VEVENT
BEGIN:VEVENT
DTSTART;TZID=America/New_York:20260421T090000
DTEND;TZID=America/New_York:20260423T160000
DTSTAMP:20260422T181830
CREATED:20260225T190950Z
LAST-MODIFIED:20260324T173731Z
UID:1922-1776762000-1776960000@www.medinacountyema.org
SUMMARY:Railroad 101 - Safety and Response
DESCRIPTION:This training is intended for public safety personnel. \nNorfolk Southern’s Safety Train will be in the Cleveland area providing FREE hands-on training.  Safety topics include: \n\nSafety around the railroad.\nUnderstanding rail shipping documents.\nRail & Tank car identification\nTank car valves & fittings\nLocomotive emergencies\nRailroad emergencies procedures.\nAskRail mobile app\n\nClasses will be held each day.  Morning sessions are at 9:00 AM\, Afternoon sessions are at 1:00 PM. An evening session will be on Tuesday at 6:00 PM. \nScan the QR code in the flyer posted HERE to register.
URL:https://www.medinacountyema.org/event/railroad-101-safety-and-response/
LOCATION:Norfolk Southern – Rockport Yard\, 4860 W 150th St\, Cleveland\, OH\, 44135\, United States
ORGANIZER;CN="Norfolk Southern - Jon Rettig":MAILTO:Jon.Rettig@nscorp.com
END:VEVENT
BEGIN:VEVENT
DTSTART;TZID=America/New_York:20260505T090000
DTEND;TZID=America/New_York:20260505T110000
DTSTAMP:20260422T181830
CREATED:20260420T143947Z
LAST-MODIFIED:20260420T144009Z
UID:2008-1777971600-1777978800@www.medinacountyema.org
SUMMARY:Stop the Bleed Training
DESCRIPTION:This training is intended for anyone. \nStop the Bleed training empowers bystanders to act as immediate responders\, preventing death from severe\, uncontrollable bleeding. It teaches three key techniques: direct pressure\, wound packing\, and tourniquet application\, to save lives within the critical minutes before professional medical help arrives. \nRegister to attend by clicking HERE.
URL:https://www.medinacountyema.org/event/stop-the-bleed-training/
LOCATION:Medina County Health Department\, 4800 Ledgewood Dr\, Medina\, OH\, 44256\, United States
END:VEVENT
BEGIN:VEVENT
DTSTART;TZID=America/New_York:20260603T080000
DTEND;TZID=America/New_York:20260603T170000
DTSTAMP:20260422T181830
CREATED:20260414T144320Z
LAST-MODIFIED:20260414T144320Z
UID:1995-1780473600-1780506000@www.medinacountyema.org
SUMMARY:DOT Hazardous Materials Transportation
DESCRIPTION:This training is intended for personnel who load\, unload\, and/or transport hazardous materials. \nThis 8-hour\, awareness-level\, instructor-led training course provides employers and employees of small or mid-sized companies or agencies with critical hazardous materials (HazMat) training information on loading\, unloading\, or preparing HazMat for transportation. Specifically\, this course focuses on the unique transportation requirements for carriage by highway and rail. Topics covered include: \n• DOT Hazardous Materials Regulations (HMR) (49 CFR\nSubchapter C)\n• Hazardous material recognition and identification\n• Basic emergency response procedures regarding HazMat\n• Determining quantities and appropriate markings\, labeling and packaging for HazMat\n• Preparing shipping papers for transporting HazMat\n• Safe and secure handling\, packaging\, labeling and transportation practices for HazMat \nRegistration information is located in the PDF linked HERE.
URL:https://www.medinacountyema.org/event/dot-hazardous-materials-transportation/
LOCATION:Medina County Sheriff’s Officer Training Center\, 6300 Technology Lane\, Medina\, OH\, 44256\, United States
END:VEVENT
BEGIN:VEVENT
DTSTART;TZID=America/New_York:20260609T080000
DTEND;TZID=America/New_York:20260609T170000
DTSTAMP:20260422T181830
CREATED:20260326T132808Z
LAST-MODIFIED:20260326T134244Z
UID:1967-1780992000-1781024400@www.medinacountyema.org
SUMMARY:OH-138: Master Scenario Events List (MSEL) Workshop
DESCRIPTION:This course is intended for personnel with responsibilities in exercises design/planning and conduct. \nThis course will allow participants to obtain the knowledge\, skills\, and abilities needed to develop a Master Scenario Events List (MSEL) for both a full scale and a functional exercise. Through lecture\, plenary discussion and facilitated activities\, students will learn about and utilize the process to develop major detailed events\, player expected actions and inject messages/simulations. The participants will also learn what is needed to harmonize/sequence injects/simulation in a way that creates an exercise environment conducive to exercise play\, control and evaluation. \n  \nRegister on the Ohio Department of Public Safety training campus website by clicking HERE.
URL:https://www.medinacountyema.org/event/oh-138-master-scenario-events-list-msel-workshop/
LOCATION:Medina County Health Department\, 4800 Ledgewood Dr\, Medina\, OH\, 44256\, United States
END:VEVENT
BEGIN:VEVENT
DTSTART;VALUE=DATE:20261012
DTEND;VALUE=DATE:20261014
DTSTAMP:20260422T181830
CREATED:20260313T134835Z
LAST-MODIFIED:20260420T153511Z
UID:1933-1791763200-1791935999@www.medinacountyema.org
SUMMARY:Leadership in Supervision: Creating Environments for Professional Growth
DESCRIPTION:This training is intended for fire service personnel. \nDeveloped by the National Fire Academy\, this course is the first module in the Leadership in Supervision series and is a requirement for the National Fire Academy Managing Officer credential. The course presents the supervisor with the basic leadership knowledge\, skills\, and abilities needed to perform effectively. The course includes concepts related to a successful transition to supervisory and leadership roles\, including that of adaptive leadership; change management; active followership; effective communication\, including difficult conversations and advocacy-inquiry based dialogue; ethics; authority; power; decision-making; and active engagement through development of a personal plan. \nTo register\, you will need to log into the State of Ohio Acadis portal. Using the filter/keyword “RD Leadership” will help you quickly locate the class without searching the full catalog.
URL:https://www.medinacountyema.org/event/leadership-in-supervision-creating-environments-for-professional-growth/
LOCATION:Seville-Guilford Fire & EMS\, 100 Greenwich Rd\, Seville\, OH\, 44273\, United States
END:VEVENT
BEGIN:VEVENT
DTSTART;VALUE=DATE:20261109
DTEND;VALUE=DATE:20261111
DTSTAMP:20260422T181830
CREATED:20260313T135450Z
LAST-MODIFIED:20260420T153543Z
UID:1941-1794182400-1794355199@www.medinacountyema.org
SUMMARY:Leadership in Supervision: Perspectives in Thinking
DESCRIPTION:This training is intended for fire service personnel. \nDeveloped by the National Fire Academy\, this course is the second module in the Leadership in Supervision series and is a requirement for the National Fire Academy Managing Officer credential. It provides the supervisor with the conceptual foundation and framework for success in leadership roles by exploring creative\, analytical\, political\, and critical thinking perspectives. The course addresses skills needed for assessing situations from multiple perspectives\, making critical decisions\, fostering creativity and innovation\, and using persuasion. REQUIREMENT Leadership in Supervision: Creating Environments for Professional Growth. \nTo register\, you will need to log into the State of Ohio Acadis portal. When prompted for prerequisites\, you will need to request waivers to allow enrollment. Using the filter/keyword “RD Leadership” will help you quickly locate the classes without searching the full catalog.
URL:https://www.medinacountyema.org/event/leadership-in-supervision-perspectives-in-thinking/
LOCATION:Seville-Guilford Fire & EMS\, 100 Greenwich Rd\, Seville\, OH\, 44273\, United States
END:VEVENT
BEGIN:VEVENT
DTSTART;VALUE=DATE:20261214
DTEND;VALUE=DATE:20261216
DTSTAMP:20260422T181830
CREATED:20260313T140230Z
LAST-MODIFIED:20260420T153530Z
UID:1945-1797206400-1797379199@www.medinacountyema.org
SUMMARY:Leadership in Supervision: Frameworks to Success
DESCRIPTION:This training is intended for fire service personnel. \nDeveloped by the National Fire Academy\, this course is the final module in the Leadership in Supervision series and is a requirement for the National Fire Academy Managing Officer credential. It provides the supervisor with the knowledge skill\, and abilities to perform successfully in the fire and EMS environments. The course addresses professionalism\, resilience\, emotional intelligence\, and situational awareness\, as well as managing conflict\, delegating\, mentoring\, coaching\, empowering\, and building collaboration and synergy for professional growth. REQUIREMENT: Leadership in Supervision: Creating Environments for Professional Growth and Leadership in Supervision: Perspectives in Thinking. \n\nTo register\, you will need to log into the State of Ohio Acadis portal. When prompted for prerequisites\, you will need to request waivers to allow enrollment. Using the filter/keyword “RD Leadership” will help you quickly locate the classes without searching the full catalog.
URL:https://www.medinacountyema.org/event/leadership-in-supervision-frameworks-to-success/
LOCATION:Seville-Guilford Fire & EMS\, 100 Greenwich Rd\, Seville\, OH\, 44273\, United States
END:VEVENT
END:VCALENDAR