BEGIN:VCALENDAR
VERSION:2.0
PRODID:-//Medina County Emergency Management Agency - ECPv6.15.20//NONSGML v1.0//EN
CALSCALE:GREGORIAN
METHOD:PUBLISH
X-WR-CALNAME:Medina County Emergency Management Agency
X-ORIGINAL-URL:https://www.medinacountyema.org
X-WR-CALDESC:Events for Medina County Emergency Management Agency
REFRESH-INTERVAL;VALUE=DURATION:PT1H
X-Robots-Tag:noindex
X-PUBLISHED-TTL:PT1H
BEGIN:VTIMEZONE
TZID:America/New_York
BEGIN:DAYLIGHT
TZOFFSETFROM:-0500
TZOFFSETTO:-0400
TZNAME:EDT
DTSTART:20250309T070000
END:DAYLIGHT
BEGIN:STANDARD
TZOFFSETFROM:-0400
TZOFFSETTO:-0500
TZNAME:EST
DTSTART:20251102T060000
END:STANDARD
BEGIN:DAYLIGHT
TZOFFSETFROM:-0500
TZOFFSETTO:-0400
TZNAME:EDT
DTSTART:20260308T070000
END:DAYLIGHT
BEGIN:STANDARD
TZOFFSETFROM:-0400
TZOFFSETTO:-0500
TZNAME:EST
DTSTART:20261101T060000
END:STANDARD
BEGIN:DAYLIGHT
TZOFFSETFROM:-0500
TZOFFSETTO:-0400
TZNAME:EDT
DTSTART:20270314T070000
END:DAYLIGHT
BEGIN:STANDARD
TZOFFSETFROM:-0400
TZOFFSETTO:-0500
TZNAME:EST
DTSTART:20271107T060000
END:STANDARD
END:VTIMEZONE
BEGIN:VEVENT
DTSTART;TZID=America/New_York:20260314T090000
DTEND;TZID=America/New_York:20260314T170000
DTSTAMP:20260422T184229
CREATED:20260223T170003Z
LAST-MODIFIED:20260223T170920Z
UID:1917-1773478800-1773507600@www.medinacountyema.org
SUMMARY:Hazardous Materials Radiation Emergencies Training
DESCRIPTION:This one day\, 8-hour course presents a radiological / nuclear overview consisting of ionizing radiation fundamentals\, terminology\, health effects\, and recognition factors. This information is critical knowledge for emergency responders performing the interdiction / prevention mission as well as first responders and other personnel who are likely to be the first to arrive on the scene of a radiological / nuclear incident. This fundamental knowledge of ionizing radiation and its effects is vital to responder safety\, allowing performance of their mission while keeping the risk to themselves and the public as low as reasonably achievable. \nRegister HERE.
URL:https://www.medinacountyema.org/event/hazardous-materials-radiation-emergencies/
LOCATION:Seville-Guilford Fire & EMS\, 100 Greenwich Rd\, Seville\, OH\, 44273\, United States
END:VEVENT
BEGIN:VEVENT
DTSTART;TZID=America/New_York:20260309T180000
DTEND;TZID=America/New_York:20260309T210000
DTSTAMP:20260422T184229
CREATED:20260202T151807Z
LAST-MODIFIED:20260205T172506Z
UID:1887-1773079200-1773090000@www.medinacountyema.org
SUMMARY:Spill Response Strategies and Tactics
DESCRIPTION:Spill Response Training Flyer \nRegister HERE. Training is being presented by Bad Day Training.
URL:https://www.medinacountyema.org/event/spill-response-strategies-and-tactics/
LOCATION:Westfield Fire Department\, 8515 Virginia Drive\, Westfield Center\, OH\, 44251\, United States
END:VEVENT
END:VCALENDAR